BEGIN:VCALENDAR
VERSION:2.0
PRODID:-//wp-events-plugin.com//7.2.3.1//EN
TZID:Europe/Berlin
X-WR-TIMEZONE:Europe/Berlin
BEGIN:VEVENT
UID:36@kinderschutzbund-rinteln.net
DTSTART:20210223T140000Z
DTEND:20210223T160000Z
DTSTAMP:20210215T105740Z
URL:https://kinderschutzbund-rinteln.net/events/offenes-ohr-fuer-kinder-de
 r-wellenreiter-gruppe-2021-02-23/
SUMMARY:offenes Ohr für Kinder der "Wellenreiter"-Gruppe
DESCRIPTION:Sprechzeit für Kinder
ATTACH;FMTTYPE=image/jpeg:https://kinderschutzbund-rinteln.net/wp-content/
 uploads/2019/09/IMG_9513.jpg
LOCATION:Wellenreiter-Räume\, Klosterstr. 27\, Rinteln\, 31737\, Deutschla
 nd
GEO:52.1849942;9.0790594
X-APPLE-STRUCTURED-LOCATION;VALUE=URI;X-ADDRESS=Klosterstr. 27\, Rinteln\, 
 31737\, Deutschland;X-APPLE-RADIUS=100;X-TITLE=Wellenreiter-Räume:geo:52.
 1849942,9.0790594
END:VEVENT
END:VCALENDAR